BEGIN:VCALENDAR
VERSION:2.0
PRODID:https://www.ekom.sk/

BEGIN:VEVENT
UID:event0505202669ecbc8cd34dd2.29746462
DTSTART:20260504T220000Z
DTEND:20260505T215900Z
LOCATION:Taškent
SUMMARY:EKOM na IDECA 2026
DESCRIPTION:Tohtoročný ročník sa koná 5. – 7. mája v Uzexpocentre v Taškente a privíta odborníkov\, distribútorov a výrobcov z celého regiónu i zo sveta.\nEKOM sa výstavy zúčastní po prvýkrát. Nájdete nás na Pavilóne 2\, stánok G.24.2 — tešíme sa na stretnutie.
END:VEVENT

END:VCALENDAR